BEGIN:VCALENDAR
VERSION:2.0
METHOD:PUBLISH
BEGIN:VEVENT
DTSTAMP:20260419T130322Z
DTSTART:20250628T180000Z
DTEND:20250628T220000Z
SUMMARY:Legends Live On 
LOCATION:330 Boyd Street, Wiarton, On
END:VEVENT
END:VCALENDAR
