BEGIN:VCALENDAR
VERSION:2.0
METHOD:PUBLISH
BEGIN:VEVENT
DTSTAMP:20260424T040142Z
DTSTART:20260413T230000Z
DTEND:20260414T010000Z
SUMMARY:Pickleball (Drop in)
LOCATION:115 George St, Wiarton ON N0H 2T0
END:VEVENT
END:VCALENDAR
