BEGIN:VCALENDAR
VERSION:2.0
METHOD:PUBLISH
BEGIN:VEVENT
DTSTAMP:20260424T040649Z
DTSTART:20260422T230000Z
DTEND:20260423T011500Z
SUMMARY:Recreational Volleyball
LOCATION:115 George St, Wiarton ON N0H 2T0
END:VEVENT
END:VCALENDAR
