BEGIN:VCALENDAR
VERSION:2.0
METHOD:PUBLISH
BEGIN:VEVENT
DTSTAMP:20260421T035511Z
DTSTART:20260426T180000Z
DTEND:20260426T220000Z
SUMMARY:Sunday Funday
LOCATION:575 Edward Street
END:VEVENT
END:VCALENDAR
