BEGIN:VCALENDAR
VERSION:2.0
METHOD:PUBLISH
BEGIN:VEVENT
DTSTAMP:20260424T072557Z
DTSTART:20260504T230000Z
DTEND:20260505T010000Z
SUMMARY:Pickleball (Drop in)
LOCATION:115 George St, Wiarton ON N0H 2T0
END:VEVENT
END:VCALENDAR
