BEGIN:VCALENDAR
VERSION:2.0
METHOD:PUBLISH
BEGIN:VEVENT
DTSTAMP:20260424T053308Z
DTSTART:20260519T223000Z
DTEND:20260520T010000Z
SUMMARY:Karate -Session 3
LOCATION:115 George St, Wiarton ON N0H 2T0
END:VEVENT
END:VCALENDAR
