BEGIN:VCALENDAR
VERSION:2.0
METHOD:PUBLISH
BEGIN:VEVENT
DTSTAMP:20260424T145028Z
DTSTART:20260527T230000Z
DTEND:20260528T011500Z
SUMMARY:Recreational Volleyball
LOCATION:115 George St, Wiarton ON N0H 2T0
END:VEVENT
END:VCALENDAR
