BEGIN:VCALENDAR
VERSION:2.0
METHOD:PUBLISH
BEGIN:VEVENT
DTSTAMP:20260419T203525Z
DTSTART:20260622T124500Z
DTEND:20260622T124500Z
SUMMARY:Tai Chi
LOCATION:575 Edward Street
END:VEVENT
END:VCALENDAR
